BEGIN:VCALENDAR
VERSION:2.0
PRODID:-//Denis Guertin Ébéniste - ECPv6.15.20//NONSGML v1.0//EN
CALSCALE:GREGORIAN
METHOD:PUBLISH
X-ORIGINAL-URL:https://denisguertinebeniste.com/fr
X-WR-CALDESC:Événements pour Denis Guertin Ébéniste
REFRESH-INTERVAL;VALUE=DURATION:PT1H
X-Robots-Tag:noindex
X-PUBLISHED-TTL:PT1H
BEGIN:VTIMEZONE
TZID:America/Toronto
BEGIN:DAYLIGHT
TZOFFSETFROM:-0500
TZOFFSETTO:-0400
TZNAME:EDT
DTSTART:20250309T070000
END:DAYLIGHT
BEGIN:STANDARD
TZOFFSETFROM:-0400
TZOFFSETTO:-0500
TZNAME:EST
DTSTART:20251102T060000
END:STANDARD
BEGIN:DAYLIGHT
TZOFFSETFROM:-0500
TZOFFSETTO:-0400
TZNAME:EDT
DTSTART:20260308T070000
END:DAYLIGHT
BEGIN:STANDARD
TZOFFSETFROM:-0400
TZOFFSETTO:-0500
TZNAME:EST
DTSTART:20261101T060000
END:STANDARD
BEGIN:DAYLIGHT
TZOFFSETFROM:-0500
TZOFFSETTO:-0400
TZNAME:EDT
DTSTART:20270314T070000
END:DAYLIGHT
BEGIN:STANDARD
TZOFFSETFROM:-0400
TZOFFSETTO:-0500
TZNAME:EST
DTSTART:20271107T060000
END:STANDARD
END:VTIMEZONE
BEGIN:VEVENT
DTSTART;VALUE=DATE:20260509
DTEND;VALUE=DATE:20260510
DTSTAMP:20260424T101912
CREATED:20260327T164545Z
LAST-MODIFIED:20260327T165724Z
UID:1952-1778284800-1778371199@denisguertinebeniste.com
SUMMARY:Marché de la Gare de Sherbrooke Fête des Mères
DESCRIPTION:Fête des Mères
URL:https://denisguertinebeniste.com/fr/event/marche-de-la-gare-de-sherbrooke-duplicate/
ATTACH;FMTTYPE=image/png:https://denisguertinebeniste.com/wp-content/uploads/2024/03/Lokoshop-Angus-printemps-2024.png
END:VEVENT
BEGIN:VEVENT
DTSTART;VALUE=DATE:20260523
DTEND;VALUE=DATE:20260524
DTSTAMP:20260424T101912
CREATED:20260327T165112Z
LAST-MODIFIED:20260327T165907Z
UID:1956-1779494400-1779580799@denisguertinebeniste.com
SUMMARY:Marché de la Gare de Sherbrooke Fête des Semis
DESCRIPTION:Fête des Semis
URL:https://denisguertinebeniste.com/fr/event/marche-de-la-gare-de-sherbrooke-fete-des-semis/
ATTACH;FMTTYPE=image/png:https://denisguertinebeniste.com/wp-content/uploads/2024/03/Lokoshop-Angus-printemps-2024.png
END:VEVENT
BEGIN:VEVENT
DTSTART;VALUE=DATE:20260605
DTEND;VALUE=DATE:20260607
DTSTAMP:20260424T101912
CREATED:20260207T151159Z
LAST-MODIFIED:20260207T151159Z
UID:1909-1780617600-1780790399@denisguertinebeniste.com
SUMMARY:Hand Made Niagara weekend 1
DESCRIPTION:13th Street Winery\, 1776 Fourth Avenue St. Catherines Ontario
URL:https://denisguertinebeniste.com/fr/event/hand-made-niagara-weekend-1/
END:VEVENT
BEGIN:VEVENT
DTSTART;VALUE=DATE:20260612
DTEND;VALUE=DATE:20260614
DTSTAMP:20260424T101912
CREATED:20260207T151308Z
LAST-MODIFIED:20260207T151308Z
UID:1911-1781222400-1781395199@denisguertinebeniste.com
SUMMARY:Hand Made Niagara weekend 2
DESCRIPTION:13th Street Winery\, 1776 Fourth Avenue St. Catherines Ontario
URL:https://denisguertinebeniste.com/fr/event/hand-made-niagara-weekend-2/
END:VEVENT
BEGIN:VEVENT
DTSTART;VALUE=DATE:20260613
DTEND;VALUE=DATE:20260615
DTSTAMP:20260424T101912
CREATED:20240723T130853Z
LAST-MODIFIED:20260327T165300Z
UID:909-1781308800-1781481599@denisguertinebeniste.com
SUMMARY:Festibois de Frelishburg TBC
DESCRIPTION:Église de Frelishburg
URL:https://denisguertinebeniste.com/fr/event/marche-de-noel-de-la-societe-alzheimer-du-haut-richelieu/
END:VEVENT
BEGIN:VEVENT
DTSTART;TZID=America/Toronto:20260620T093000
DTEND;TZID=America/Toronto:20260620T120000
DTSTAMP:20260424T101912
CREATED:20250629T163729Z
LAST-MODIFIED:20260327T164221Z
UID:1492-1781947800-1781956800@denisguertinebeniste.com
SUMMARY:Marché Public de Bolton
DESCRIPTION:Parc Terrio
URL:https://denisguertinebeniste.com/fr/event/marche-public-de-bolton-duplicate/
END:VEVENT
BEGIN:VEVENT
DTSTART;TZID=America/Toronto:20260621T100000
DTEND;TZID=America/Toronto:20260621T130000
DTSTAMP:20260424T101912
CREATED:20240505T160803Z
LAST-MODIFIED:20260327T164758Z
UID:835-1782036000-1782046800@denisguertinebeniste.com
SUMMARY:Marché Public de Magog
DESCRIPTION:Plage des Cantons
URL:https://denisguertinebeniste.com/fr/event/marche-public-de-magog-3/
END:VEVENT
BEGIN:VEVENT
DTSTART;VALUE=DATE:20260627
DTEND;VALUE=DATE:20260702
DTSTAMP:20260424T101912
CREATED:20250629T165057Z
LAST-MODIFIED:20260330T142209Z
UID:1500-1782518400-1782950399@denisguertinebeniste.com
SUMMARY:Coburg Water Front Festival
DESCRIPTION:
URL:https://denisguertinebeniste.com/fr/event/spirituo-magog/
END:VEVENT
BEGIN:VEVENT
DTSTART;VALUE=DATE:20260811
DTEND;VALUE=DATE:20260824
DTSTAMP:20260424T101912
CREATED:20250629T171154Z
LAST-MODIFIED:20260327T172905Z
UID:1507-1786406400-1787529599@denisguertinebeniste.com
SUMMARY:Plein Art Québec
DESCRIPTION:Venez nous voir au kiosque\nPlein Art 2026\n le salon déménage au Parc de l’Esplanade / Porte Saint-Louis\, en plein cœur du Vieux-Québec\, du 11 août au 23 août. Sous un grand chapiteau\, ce cadre historique offrira une promenade – de la rue Saint-Louis jusqu’aux remparts – ponctuée de créations\, d’ateliers-démonstrations\, d’animations et dégustations. \nHoraire : \n\nMardi 11 août au samedi 22 août : 10h à 20h\nDimanche 23 août : 10h à 17h\n\nLieu : Parc de L’Esplanade / La Poudrière\, Ville de Québec \nPrix : Entrée gratuite
URL:https://denisguertinebeniste.com/fr/event/plein-art-quebec-kiosque-107-206/
END:VEVENT
BEGIN:VEVENT
DTSTART;VALUE=DATE:20260911
DTEND;VALUE=DATE:20260921
DTSTAMP:20260424T101912
CREATED:20250629T173107Z
LAST-MODIFIED:20260327T163806Z
UID:1509-1789084800-1789948799@denisguertinebeniste.com
SUMMARY:Festival Western de St-Tite Kiosque 22
DESCRIPTION:
URL:https://denisguertinebeniste.com/fr/event/salon-des-marchands-de-ste-julie/
END:VEVENT
BEGIN:VEVENT
DTSTART;VALUE=DATE:20260919
DTEND;VALUE=DATE:20260921
DTSTAMP:20260424T101912
CREATED:20240607T225856Z
LAST-MODIFIED:20260203T144153Z
UID:858-1789776000-1789948799@denisguertinebeniste.com
SUMMARY:Festival des Artisans de Sainte-Marceline-de-Kildaire TBC
DESCRIPTION:Sainte-Marceline-de-Kildaire
URL:https://denisguertinebeniste.com/fr/event/festival-des-artisans-de-sainte-marceline-de-kildaire/
END:VEVENT
BEGIN:VEVENT
DTSTART;VALUE=DATE:20261009
DTEND;VALUE=DATE:20261013
DTSTAMP:20260424T101912
CREATED:20240607T231505Z
LAST-MODIFIED:20260327T164031Z
UID:862-1791504000-1791849599@denisguertinebeniste.com
SUMMARY:Ball's Falls Thanksgiving Festival TBC
DESCRIPTION:
URL:https://denisguertinebeniste.com/fr/event/balls-falls-thanksgiving-festival/
END:VEVENT
BEGIN:VEVENT
DTSTART;VALUE=DATE:20261022
DTEND;VALUE=DATE:20261026
DTSTAMP:20260424T101912
CREATED:20250907T163533Z
LAST-MODIFIED:20260203T143614Z
UID:1547-1792627200-1792972799@denisguertinebeniste.com
SUMMARY:Salon des Artisans Signature Landsdown Ottawa
DESCRIPTION:Landsdown Center Ottawa
URL:https://denisguertinebeniste.com/fr/event/salon-des-artisans-signature-landsdown-ottawa/
END:VEVENT
BEGIN:VEVENT
DTSTART;VALUE=DATE:20261023
DTEND;VALUE=DATE:20261026
DTSTAMP:20260424T101912
CREATED:20240607T230750Z
LAST-MODIFIED:20260327T173912Z
UID:860-1792713600-1792972799@denisguertinebeniste.com
SUMMARY:Salon des Métiers d'Art de St-Bruno Kiosque #34
DESCRIPTION:Centre Marcelle Ferron
URL:https://denisguertinebeniste.com/fr/event/etsy-sherbrooke/
END:VEVENT
BEGIN:VEVENT
DTSTART;VALUE=DATE:20261105
DTEND;VALUE=DATE:20261109
DTSTAMP:20260424T101912
CREATED:20240607T232647Z
LAST-MODIFIED:20260327T164942Z
UID:868-1793836800-1794182399@denisguertinebeniste.com
SUMMARY:Nepean Christmas Craft Show Booth #520
DESCRIPTION:Nepean Sportsplex\, 1701 Woodroffe Ave\, Ottawa
URL:https://denisguertinebeniste.com/fr/event/nepean-sportsplex-christmas-craft-show/
END:VEVENT
BEGIN:VEVENT
DTSTART;VALUE=DATE:20261106
DTEND;VALUE=DATE:20261109
DTSTAMP:20260424T101912
CREATED:20250907T163938Z
LAST-MODIFIED:20260327T163648Z
UID:1549-1793923200-1794182399@denisguertinebeniste.com
SUMMARY:Salon des Métiers d'Art de Boucherville
DESCRIPTION:Centre Multifonctionnel Francine-Gadebois
URL:https://denisguertinebeniste.com/fr/event/ecole-la-ruche-magog/
END:VEVENT
BEGIN:VEVENT
DTSTART;VALUE=DATE:20261112
DTEND;VALUE=DATE:20261116
DTSTAMP:20260424T101912
CREATED:20250629T163848Z
LAST-MODIFIED:20260327T174537Z
UID:1496-1794441600-1794787199@denisguertinebeniste.com
SUMMARY:Fair November Guelph TBC
DESCRIPTION:Guelph University
URL:https://denisguertinebeniste.com/fr/event/marche-public-de-bolton/
END:VEVENT
BEGIN:VEVENT
DTSTART;VALUE=DATE:20261120
DTEND;VALUE=DATE:20261123
DTSTAMP:20260424T101912
CREATED:20240723T124759Z
LAST-MODIFIED:20260327T174420Z
UID:898-1795132800-1795391999@denisguertinebeniste.com
SUMMARY:Markham Home For The Holidays
DESCRIPTION:Hall #1
URL:https://denisguertinebeniste.com/fr/event/marche-public-de-bolton-5/
END:VEVENT
BEGIN:VEVENT
DTSTART;VALUE=DATE:20261127
DTEND;VALUE=DATE:20261130
DTSTAMP:20260424T101912
CREATED:20240723T131951Z
LAST-MODIFIED:20260203T143316Z
UID:917-1795737600-1795996799@denisguertinebeniste.com
SUMMARY:Niagara Holiday Market at the convention center
DESCRIPTION:Niagara conference Center
URL:https://denisguertinebeniste.com/fr/event/salon-des-artisans-de-granby/
END:VEVENT
BEGIN:VEVENT
DTSTART;VALUE=DATE:20261127
DTEND;VALUE=DATE:20261207
DTSTAMP:20260424T101912
CREATED:20250228T193318Z
LAST-MODIFIED:20260203T151316Z
UID:1321-1795737600-1796601599@denisguertinebeniste.com
SUMMARY:One Of A Kind Winter Show Enercare
DESCRIPTION:Enercare Center Toronto
URL:https://denisguertinebeniste.com/fr/event/one-of-a-kind-winter-show-2/
END:VEVENT
BEGIN:VEVENT
DTSTART;VALUE=DATE:20261209
DTEND;VALUE=DATE:20261214
DTSTAMP:20260424T101912
CREATED:20240723T132416Z
LAST-MODIFIED:20260203T142438Z
UID:923-1796774400-1797206399@denisguertinebeniste.com
SUMMARY:Original Christmas Sale Ottawa Centre EY
DESCRIPTION:EY Center Ottawa
URL:https://denisguertinebeniste.com/fr/event/original-christmas-sale/
END:VEVENT
BEGIN:VEVENT
DTSTART;VALUE=DATE:20261210
DTEND;VALUE=DATE:20261221
DTSTAMP:20260424T101912
CREATED:20240723T132301Z
LAST-MODIFIED:20260327T162352Z
UID:921-1796860800-1797811199@denisguertinebeniste.com
SUMMARY:Salon des Artisans de Montréal au Palais des Congrès
DESCRIPTION:Palais des Congrès de Montréal
URL:https://denisguertinebeniste.com/fr/event/salon-des-artisans-de-quebec-kiosque-523/
END:VEVENT
BEGIN:VEVENT
DTSTART;VALUE=DATE:20261215
DTEND;VALUE=DATE:20261221
DTSTAMP:20260424T101912
CREATED:20240723T132518Z
LAST-MODIFIED:20260327T163258Z
UID:925-1797292800-1797811199@denisguertinebeniste.com
SUMMARY:Salon des Métiers d'Art de Montréal
DESCRIPTION:
URL:https://denisguertinebeniste.com/fr/event/salon-des-metiers-dart-de-montreal/
END:VEVENT
END:VCALENDAR