BEGIN:VCALENDAR
VERSION:2.0
PRODID:-//Denis Guertin Ébéniste - ECPv6.15.20//NONSGML v1.0//EN
CALSCALE:GREGORIAN
METHOD:PUBLISH
X-ORIGINAL-URL:https://denisguertinebeniste.com
X-WR-CALDESC:Events for Denis Guertin Ébéniste
REFRESH-INTERVAL;VALUE=DURATION:PT1H
X-Robots-Tag:noindex
X-PUBLISHED-TTL:PT1H
BEGIN:VTIMEZONE
TZID:America/Toronto
BEGIN:DAYLIGHT
TZOFFSETFROM:-0500
TZOFFSETTO:-0400
TZNAME:EDT
DTSTART:20250309T070000
END:DAYLIGHT
BEGIN:STANDARD
TZOFFSETFROM:-0400
TZOFFSETTO:-0500
TZNAME:EST
DTSTART:20251102T060000
END:STANDARD
BEGIN:DAYLIGHT
TZOFFSETFROM:-0500
TZOFFSETTO:-0400
TZNAME:EDT
DTSTART:20260308T070000
END:DAYLIGHT
BEGIN:STANDARD
TZOFFSETFROM:-0400
TZOFFSETTO:-0500
TZNAME:EST
DTSTART:20261101T060000
END:STANDARD
BEGIN:DAYLIGHT
TZOFFSETFROM:-0500
TZOFFSETTO:-0400
TZNAME:EDT
DTSTART:20270314T070000
END:DAYLIGHT
BEGIN:STANDARD
TZOFFSETFROM:-0400
TZOFFSETTO:-0500
TZNAME:EST
DTSTART:20271107T060000
END:STANDARD
END:VTIMEZONE
BEGIN:VEVENT
DTSTART;VALUE=DATE:20261022
DTEND;VALUE=DATE:20261026
DTSTAMP:20260424T084419
CREATED:20250907T163533Z
LAST-MODIFIED:20260203T143614Z
UID:1547-1792627200-1792972799@denisguertinebeniste.com
SUMMARY:Salon des Artisans Signature Landsdown Ottawa
DESCRIPTION:Landsdown Center Ottawa
URL:https://denisguertinebeniste.com/event/salon-des-artisans-signature-landsdown-ottawa/
END:VEVENT
BEGIN:VEVENT
DTSTART;VALUE=DATE:20261023
DTEND;VALUE=DATE:20261026
DTSTAMP:20260424T084419
CREATED:20240607T230750Z
LAST-MODIFIED:20260327T173912Z
UID:860-1792713600-1792972799@denisguertinebeniste.com
SUMMARY:Salon des Métiers d'Art de St-Bruno Kiosque #34
DESCRIPTION:Centre Marcelle Ferron
URL:https://denisguertinebeniste.com/event/etsy-sherbrooke/
END:VEVENT
BEGIN:VEVENT
DTSTART;VALUE=DATE:20261105
DTEND;VALUE=DATE:20261109
DTSTAMP:20260424T084419
CREATED:20240607T232647Z
LAST-MODIFIED:20260327T164942Z
UID:868-1793836800-1794182399@denisguertinebeniste.com
SUMMARY:Nepean Christmas Craft Show Booth #520
DESCRIPTION:Nepean Sportsplex\, 1701 Woodroffe Ave\, Ottawa
URL:https://denisguertinebeniste.com/event/nepean-sportsplex-christmas-craft-show/
END:VEVENT
BEGIN:VEVENT
DTSTART;VALUE=DATE:20261106
DTEND;VALUE=DATE:20261109
DTSTAMP:20260424T084419
CREATED:20250907T163938Z
LAST-MODIFIED:20260327T163648Z
UID:1549-1793923200-1794182399@denisguertinebeniste.com
SUMMARY:Salon des Métiers d'Art de Boucherville
DESCRIPTION:Centre Multifonctionnel Francine-Gadebois
URL:https://denisguertinebeniste.com/event/ecole-la-ruche-magog/
END:VEVENT
BEGIN:VEVENT
DTSTART;VALUE=DATE:20261112
DTEND;VALUE=DATE:20261116
DTSTAMP:20260424T084419
CREATED:20250629T163848Z
LAST-MODIFIED:20260327T174537Z
UID:1496-1794441600-1794787199@denisguertinebeniste.com
SUMMARY:Fair November Guelph TBC
DESCRIPTION:Guelph University
URL:https://denisguertinebeniste.com/event/marche-public-de-bolton/
END:VEVENT
BEGIN:VEVENT
DTSTART;VALUE=DATE:20261120
DTEND;VALUE=DATE:20261123
DTSTAMP:20260424T084419
CREATED:20240723T124759Z
LAST-MODIFIED:20260327T174420Z
UID:898-1795132800-1795391999@denisguertinebeniste.com
SUMMARY:Markham Home For The Holidays
DESCRIPTION:Hall #1
URL:https://denisguertinebeniste.com/event/marche-public-de-bolton-5/
END:VEVENT
BEGIN:VEVENT
DTSTART;VALUE=DATE:20261127
DTEND;VALUE=DATE:20261130
DTSTAMP:20260424T084419
CREATED:20240723T131951Z
LAST-MODIFIED:20260203T143316Z
UID:917-1795737600-1795996799@denisguertinebeniste.com
SUMMARY:Niagara Holiday Market at the convention center
DESCRIPTION:Niagara conference Center
URL:https://denisguertinebeniste.com/event/salon-des-artisans-de-granby/
END:VEVENT
BEGIN:VEVENT
DTSTART;VALUE=DATE:20261127
DTEND;VALUE=DATE:20261207
DTSTAMP:20260424T084419
CREATED:20250228T193318Z
LAST-MODIFIED:20260203T151316Z
UID:1321-1795737600-1796601599@denisguertinebeniste.com
SUMMARY:One Of A Kind Winter Show Enercare
DESCRIPTION:Enercare Center Toronto
URL:https://denisguertinebeniste.com/event/one-of-a-kind-winter-show-2/
END:VEVENT
BEGIN:VEVENT
DTSTART;VALUE=DATE:20261209
DTEND;VALUE=DATE:20261214
DTSTAMP:20260424T084419
CREATED:20240723T132416Z
LAST-MODIFIED:20260203T142438Z
UID:923-1796774400-1797206399@denisguertinebeniste.com
SUMMARY:Original Christmas Sale Ottawa Centre EY
DESCRIPTION:EY Center Ottawa
URL:https://denisguertinebeniste.com/event/original-christmas-sale/
END:VEVENT
BEGIN:VEVENT
DTSTART;VALUE=DATE:20261210
DTEND;VALUE=DATE:20261221
DTSTAMP:20260424T084419
CREATED:20240723T132301Z
LAST-MODIFIED:20260327T162352Z
UID:921-1796860800-1797811199@denisguertinebeniste.com
SUMMARY:Salon des Artisans de Montréal au Palais des Congrès
DESCRIPTION:Palais des Congrès de Montréal
URL:https://denisguertinebeniste.com/event/salon-des-artisans-de-quebec-kiosque-523/
END:VEVENT
BEGIN:VEVENT
DTSTART;VALUE=DATE:20261215
DTEND;VALUE=DATE:20261221
DTSTAMP:20260424T084419
CREATED:20240723T132518Z
LAST-MODIFIED:20260327T163258Z
UID:925-1797292800-1797811199@denisguertinebeniste.com
SUMMARY:Salon des Métiers d'Art de Montréal
DESCRIPTION:
URL:https://denisguertinebeniste.com/event/salon-des-metiers-dart-de-montreal/
END:VEVENT
END:VCALENDAR